BEGIN:VCALENDAR
VERSION:2.0
PRODID:-//ChamberMaster//Event Calendar 2.0//EN
METHOD:PUBLISH
X-PUBLISHED-TTL:P3D
REFRESH-INTERVAL:P3D
CALSCALE:GREGORIAN
BEGIN:VEVENT
DTSTART:20190505T000000Z
DTEND:20190505T020000Z
X-MICROSOFT-CDO-ALLDAYEVENT:FALSE
SUMMARY:Chapin Theatre Company Presents Dixie Swim Club
DESCRIPTION:Chapin Theatre and director Ripley Thames are excited to announce the talented and very funny cast of Jones\, Hope\, Wooten's southern comedy "Dixie Swim Club" running May 2nd   May 5 at the Firehouse Theatre at Firehouse Theatre at American Legion Post 193.
X-ALT-DESC;FMTTYPE=text/html:<span style="color: rgb(30\, 30\, 30)\; font-family: &quot\;Helvetica Neue&quot\;\, Helvetica\, Arial\, sans-serif\; font-size: 14px\;">Chapin Theatre and director Ripley Thames are excited to announce the talented and very funny cast of Jones\, Hope\, Wooten&#39\;s southern comedy &quot\;Dixie Swim Club&quot\; running May 2nd &ndash\; May 5 at the Firehouse Theatre at Firehouse Theatre at&nbsp\;</span><a href="https://goo.gl/maps/RvAEJXnd9t82" style="box-sizing: border-box\; margin: 0px\; padding: 0px\; border: 0px\; font-variant-numeric: inherit\; font-variant-east-asian: inherit\; font-stretch: inherit\; line-height: inherit\; font-family: &quot\;Helvetica Neue&quot\;\, Helvetica\, Arial\, sans-serif\; font-size: 14px\; vertical-align: baseline\; color: rgb(80\, 135\, 202)\; text-decoration-line: none\; transition: color 0.1s linear 0s\; outline: 0px !important\;" target="map">American Legion Post 193</a><span style="color: rgb(30\, 30\, 30)\; font-family: &quot\;Helvetica Neue&quot\;\, Helvetica\, Arial\, sans-serif\; font-size: 14px\;">.&nbsp\;</span>
LOCATION:American Legion Post 193 - 102 Lexington Avenue\, Chapin SC
UID:e.1644.2443
SEQUENCE:3
DTSTAMP:20260422T040617Z
URL:https://business.chapinchamber.com/events/details/chapin-theatre-company-presents-dixie-swim-club-05-04-2019-2443
END:VEVENT

END:VCALENDAR
