BEGIN:VCALENDAR
VERSION:2.0
PRODID:-//ChamberMaster//Event Calendar 2.0//EN
METHOD:PUBLISH
X-PUBLISHED-TTL:P3D
REFRESH-INTERVAL:P3D
CALSCALE:GREGORIAN
BEGIN:VEVENT
DTSTART:20190302T010000Z
DTEND:20190302T023000Z
X-MICROSOFT-CDO-ALLDAYEVENT:FALSE
SUMMARY:Chapin Theatre Company Presents "Getting Sara Married"
DESCRIPTION:Director MonaLisa Botts has assembled a talented group of actors from across the Midlands including Hayley Hunt as Sara and Merritt Vann as Ben. Lou Clyde\, Dennis Kacsur\, and Melissa Sklodski round out the cast. \n\n\n\nShowtimes are March 1\, 2\, 7\, 8\, and 9 at 8:00 p.m.\, and Sunday matinees will be at 3:00 p.m. on March 3rd and 10th. All performances will be at the Firehouse Theatre at Firehouse Theatre at American Legion Post 193. Get advance tickets\nfor only $15.
X-ALT-DESC;FMTTYPE=text/html:<span style="color: rgb(30\, 30\, 30)\; font-family: &quot\;Helvetica Neue&quot\;\, Helvetica\, Arial\, sans-serif\; font-size: 14px\;">Director MonaLisa Botts has assembled a talented group of actors from across the Midlands including Hayley Hunt as Sara and Merritt Vann as Ben. Lou Clyde\, Dennis Kacsur\, and Melissa Sklodski round out the cast.&nbsp\;</span><br style="box-sizing: border-box\; color: rgb(30\, 30\, 30)\; font-family: &quot\;Helvetica Neue&quot\;\, Helvetica\, Arial\, sans-serif\; font-size: 14px\;" />\n<br style="box-sizing: border-box\; color: rgb(30\, 30\, 30)\; font-family: &quot\;Helvetica Neue&quot\;\, Helvetica\, Arial\, sans-serif\; font-size: 14px\;" />\n<span style="color: rgb(30\, 30\, 30)\; font-family: &quot\;Helvetica Neue&quot\;\, Helvetica\, Arial\, sans-serif\; font-size: 14px\;">Showtimes are March 1\, 2\, 7\, 8\, and 9 at 8:00 p.m.\,&nbsp\;</span><span style="color: rgb(30\, 30\, 30)\; font-family: &quot\;Helvetica Neue&quot\;\, Helvetica\, Arial\, sans-serif\; font-size: 14px\;">and Sunday matinees will be at 3:00 p.m. on March 3rd and 10th. All performances will be at the Firehouse Theatre at Firehouse Theatre at&nbsp\;</span><a href="https://goo.gl/maps/RvAEJXnd9t82" style="box-sizing: border-box\; margin: 0px\; padding: 0px\; border: 0px\; font-variant-numeric: inherit\; font-variant-east-asian: inherit\; font-stretch: inherit\; line-height: inherit\; font-family: &quot\;Helvetica Neue&quot\;\, Helvetica\, Arial\, sans-serif\; font-size: 14px\; vertical-align: baseline\; color: rgb(80\, 135\, 202)\; text-decoration-line: none\; transition: color 0.1s linear 0s\; outline: 0px !important\;" target="map">American Legion Post 193</a><span style="color: rgb(30\, 30\, 30)\; font-family: &quot\;Helvetica Neue&quot\;\, Helvetica\, Arial\, sans-serif\; font-size: 14px\;">.&nbsp\;</span><a href="http://www.chapintheatre.org/2019/tickets.html#tix" style="box-sizing: border-box\; margin: 0px\; padding: 0px\; border: 0px\; font-variant-numeric: inherit\; font-variant-east-asian: inherit\; font-stretch: inherit\; line-height: inherit\; font-family: &quot\;Helvetica Neue&quot\;\, Helvetica\, Arial\, sans-serif\; font-size: 14px\; vertical-align: baseline\; color: rgb(80\, 135\, 202)\; text-decoration-line: none\; transition: color 0.1s linear 0s\; outline: 0px !important\;">Get advance tickets</a>\n<div><span style="color: rgb(30\, 30\, 30)\; font-family: &quot\;Helvetica Neue&quot\;\, Helvetica\, Arial\, sans-serif\; font-size: 14px\;">for only $15.</span></div>\n
LOCATION:Firehouse Theatre at American Legion Post 193 - 102 Lexington Avenue\, Chapin
UID:e.1644.2390
SEQUENCE:3
DTSTAMP:20260422T075144Z
URL:https://business.chapinchamber.com/events/details/chapin-theatre-company-presents-getting-sara-married-2390
END:VEVENT

END:VCALENDAR
