BEGIN:VCALENDAR
VERSION:2.0
PRODID:-//ChamberMaster//Event Calendar 2.0//EN
METHOD:PUBLISH
X-PUBLISHED-TTL:P3D
REFRESH-INTERVAL:P3D
CALSCALE:GREGORIAN
BEGIN:VEVENT
DTSTART:20180930T190000Z
DTEND:20180930T210000Z
X-MICROSOFT-CDO-ALLDAYEVENT:FALSE
SUMMARY:Chapin Theatre Company Presents: Things My Mother Taught Me
DESCRIPTION:Synopsis:  Olivia and Gabe are moving \n\nin together new city\, new jobs\, new apartment. Things get interesting \n\nwhen both sets of parents show up to help them get set up. \n\nA brand new comedy\, it offers a generational look at love that is funny and touching. It will make you laugh out loud and fall in love all over again.
X-ALT-DESC;FMTTYPE=text/html:<div style="color: rgb(64\, 63\, 66)\; font-family: Arial\, Verdana\, Helvetica\, sans-serif\; font-size: 12px\; white-space: pre-wrap\; background-color: rgb(255\, 255\, 255)\; text-align: center\;"><span style="font-size: 14px\; color: rgb(0\, 0\, 0)\; font-weight: bold\;">Synopsis: </span><span style="font-size: 14px\; color: rgb(0\, 0\, 0)\;"> Olivia and Gabe are moving </span></div>\n\n<div style="color: rgb(64\, 63\, 66)\; font-family: Arial\, Verdana\, Helvetica\, sans-serif\; font-size: 12px\; white-space: pre-wrap\; background-color: rgb(255\, 255\, 255)\; text-align: center\;"><span style="font-size: 14px\; color: rgb(0\, 0\, 0)\;">in together&mdash\;new city\, new jobs\, new apartment. Things get interesting </span></div>\n\n<div style="color: rgb(64\, 63\, 66)\; font-family: Arial\, Verdana\, Helvetica\, sans-serif\; font-size: 12px\; white-space: pre-wrap\; background-color: rgb(255\, 255\, 255)\; text-align: center\;"><span style="font-size: 14px\; color: rgb(0\, 0\, 0)\;">when both sets of parents show up to help them get set up. </span></div>\n\n<div style="color: rgb(64\, 63\, 66)\; font-family: Arial\, Verdana\, Helvetica\, sans-serif\; font-size: 12px\; white-space: pre-wrap\; background-color: rgb(255\, 255\, 255)\; text-align: center\;"><span style="font-size: 14px\; color: rgb(0\, 0\, 0)\;">A brand new comedy\, it offers a generational look at love that is funny and touching. It will make you laugh out loud and fall in love all over again.</span><br />\n&nbsp\;</div>\n\n<div style="color: rgb(64\, 63\, 66)\; font-family: Arial\, Verdana\, Helvetica\, sans-serif\; font-size: 12px\; white-space: pre-wrap\; background-color: rgb(255\, 255\, 255)\; text-align: center\;">&nbsp\;</div>\n
LOCATION:All shows are performed at the American Legion Post 193 - 102 Lexington Ave\, Chapin\, SC
UID:e.1644.2252
SEQUENCE:3
DTSTAMP:20260422T183717Z
URL:https://business.chapinchamber.com/events/details/chapin-theatre-company-presents-things-my-mother-taught-me-2252
END:VEVENT

END:VCALENDAR
