BEGIN:VCALENDAR
VERSION:2.0
PRODID:-//ChamberMaster//Event Calendar 2.0//EN
METHOD:PUBLISH
X-PUBLISHED-TTL:P3D
REFRESH-INTERVAL:P3D
CALSCALE:GREGORIAN
BEGIN:VEVENT
DTSTART:20181006T160000Z
DTEND:20181006T190000Z
X-MICROSOFT-CDO-ALLDAYEVENT:FALSE
SUMMARY:Chapin Veterinary Hospital Open House
DESCRIPTION:Join Chapin Veterinary Hospital for their Open House!  Meet their staff.\n\nTour their huge facility.  Smooch your Pooch Photo Booth (furry friends welcome for photos)  Goody bags will be offered - Homemade Dog Treats Included  - Food and Refreshments will be served!
X-ALT-DESC;FMTTYPE=text/html:Join Chapin Veterinary Hospital for their Open House!&nbsp\; Meet their staff.<br />\nTour their huge facility.&nbsp\; Smooch your Pooch Photo Booth (furry friends welcome for photos)&nbsp\; Goody bags will be offered - Homemade Dog Treats Included&nbsp\; - Food and Refreshments will be served!&nbsp\;
LOCATION:Chapin Veterinary Hospital - 500 Columbia Avenue\, Chapin
UID:e.1644.2255
SEQUENCE:3
DTSTAMP:20260422T182210Z
URL:https://business.chapinchamber.com/events/details/chapin-veterinary-hospital-open-house-2255
END:VEVENT

END:VCALENDAR
