BEGIN:VCALENDAR
VERSION:2.0
PRODID:-//ChamberMaster//Event Calendar 2.0//EN
METHOD:PUBLISH
X-PUBLISHED-TTL:P3D
REFRESH-INTERVAL:P3D
CALSCALE:GREGORIAN
BEGIN:VEVENT
DTSTART:20181114T233000Z
DTEND:20181115T020000Z
X-MICROSOFT-CDO-ALLDAYEVENT:FALSE
SUMMARY:Chapin Woman's Club - Designer Bag Bingo
DESCRIPTION:A fundraiser to support Chapin Woman's Club efforts in our community.\n\nPlay Bingo and win Designer Handbags for a $25.00 donation.\n\nBring your own Beer or Wine\, \n\nOther beverages and finger foods provided.
X-ALT-DESC;FMTTYPE=text/html:<div align="center" style="color: rgb(64\, 63\, 66)\; font-family: Arial\, Verdana\, Helvetica\, sans-serif\; font-size: 12px\; background-color: rgb(255\, 255\, 255)\; text-align: center\;"><span style="font-size: 14px\; color: rgb(29\, 33\, 41)\;">A fundraiser to support Chapin Woman&#39\;s Club efforts in our community.</span></div>\n\n<div align="center" style="color: rgb(64\, 63\, 66)\; font-family: Arial\, Verdana\, Helvetica\, sans-serif\; font-size: 12px\; background-color: rgb(255\, 255\, 255)\; text-align: center\;"><span style="font-size: 14px\; color: rgb(29\, 33\, 41)\;">Play Bingo and win Designer Handbags for a $25.00 donation.</span></div>\n\n<div align="center" style="color: rgb(64\, 63\, 66)\; font-family: Arial\, Verdana\, Helvetica\, sans-serif\; font-size: 12px\; background-color: rgb(255\, 255\, 255)\; text-align: center\;"><span style="font-size: 14px\; color: rgb(29\, 33\, 41)\;">Bring your own Beer or Wine\,&nbsp\;</span></div>\n\n<div align="center" style="color: rgb(64\, 63\, 66)\; font-family: Arial\, Verdana\, Helvetica\, sans-serif\; font-size: 12px\; background-color: rgb(255\, 255\, 255)\; text-align: center\;"><span style="font-size: 14px\; color: rgb(29\, 33\, 41)\;">Other beverages and finger foods provided.&nbsp\;</span></div>\n
LOCATION:St. Francis of Assisi Episcopal Church 735 Old Lexington Hwy\, Chapin
UID:e.1644.2277
SEQUENCE:3
DTSTAMP:20260422T151003Z
URL:https://business.chapinchamber.com/events/details/chapin-woman-s-club-designer-bag-bingo-2277
END:VEVENT

END:VCALENDAR
