BEGIN:VCALENDAR
VERSION:2.0
PRODID:-//ChamberMaster//Event Calendar 2.0//EN
METHOD:PUBLISH
X-PUBLISHED-TTL:P3D
REFRESH-INTERVAL:P3D
CALSCALE:GREGORIAN
BEGIN:VEVENT
DTSTART:20191107T233000Z
DTEND:20191108T023000Z
X-MICROSOFT-CDO-ALLDAYEVENT:FALSE
SUMMARY:Chapin Woman's Club - Designer Bag Bingo
DESCRIPTION:Bring your friends out for a night of fun!  Prizes include handbags from Michael Kors\, Coach\, Spartina\, Kate Spade and more....\n\nDoors Open at 6:30 p.m. Bingo begins at 7:00 p.m.
X-ALT-DESC;FMTTYPE=text/html:Bring your friends out for a night of fun!&nbsp\; Prizes include handbags from Michael Kors\, Coach\, Spartina\, Kate Spade and more....<br />\nDoors Open at 6:30 p.m. Bingo begins at 7:00 p.m.&nbsp\;<br />\n&nbsp\;
LOCATION:St. Francis of Assisi Episcopal Church - 735 Old Lexington Hwy\, Chapin
UID:e.1644.2543
SEQUENCE:3
DTSTAMP:20260425T232134Z
URL:https://business.chapinchamber.com/events/details/chapin-woman-s-club-designer-bag-bingo-2543
END:VEVENT

END:VCALENDAR
