BEGIN:VCALENDAR
VERSION:2.0
PRODID:-//ChamberMaster//Event Calendar 2.0//EN
METHOD:PUBLISH
X-PUBLISHED-TTL:P3D
REFRESH-INTERVAL:P3D
CALSCALE:GREGORIAN
BEGIN:VEVENT
DTSTART:20190426T223000Z
DTEND:20190427T023000Z
X-MICROSOFT-CDO-ALLDAYEVENT:FALSE
SUMMARY:Chapin Woman's Club Fabulous Flamingo Fling
DESCRIPTION:Please join CHAPIN WOMAN'S CLUB for their signature charity fundraiser\, The Flamingo Fling. Once again they will be offering wonderful food\, drinks\, dancing to Peacehaven\,\n\nsilent & live auctions\, raffles\, and a cash bar!\n Proceeds benefits scholarships and community grants.\n\nFeaturing: PAUL MCCARTNEY signed Rogue Bass Guitar!\n\nDabo Swinney signed CLEMSON\n\nNat'l Championship football\n\nw/ complete schedule!\n\nPINEHURST GOLF and much more!
X-ALT-DESC;FMTTYPE=text/html:<span style="font-family: Arial\, Verdana\, Helvetica\, sans-serif\; font-size: 14px\; text-align: center\; background-color: rgb(255\, 255\, 255)\;">Please join CHAPIN WOMAN&#39\;S CLUB for their signature charity fundraiser\,&nbsp\;</span><span style="font-size: 14px\; background-color: rgb(255\, 255\, 255)\; font-family: Arial\, Verdana\, Helvetica\, sans-serif\; text-align: center\;">The Flamingo Fling. Once again they will be offering wonderful food\, drinks\, dancing to Peacehaven\,<br />\nsilent &amp\; live auctions\, raffles\, and a cash bar!</span>\n<div align="center" style="color: rgb(64\, 63\, 66)\; font-family: Arial\, Verdana\, Helvetica\, sans-serif\; font-size: 12px\; background-color: rgb(255\, 255\, 255)\; text-align: center\;"><span style="font-size: 14px\; color: rgb(0\, 0\, 0)\;">&#65279\;Proceeds benefits scholarships and community grants.</span></div>\n\n<div align="center" style="color: rgb(64\, 63\, 66)\; font-family: Arial\, Verdana\, Helvetica\, sans-serif\; font-size: 12px\; background-color: rgb(255\, 255\, 255)\; text-align: center\;"><span style="font-size: 14px\; color: rgb(0\, 0\, 0)\;">Featuring: PAUL MCCARTNEY signed Rogue Bass Guitar!</span></div>\n\n<div align="center" style="color: rgb(64\, 63\, 66)\; font-family: Arial\, Verdana\, Helvetica\, sans-serif\; font-size: 12px\; background-color: rgb(255\, 255\, 255)\; text-align: center\;"><span style="font-size: 14px\; color: rgb(0\, 0\, 0)\;">Dabo Swinney signed CLEMSON</span></div>\n\n<div align="center" style="color: rgb(64\, 63\, 66)\; font-family: Arial\, Verdana\, Helvetica\, sans-serif\; font-size: 12px\; background-color: rgb(255\, 255\, 255)\; text-align: center\;"><span style="font-size: 14px\; color: rgb(0\, 0\, 0)\;">Nat&#39\;l Championship football</span></div>\n\n<div align="center" style="color: rgb(64\, 63\, 66)\; font-family: Arial\, Verdana\, Helvetica\, sans-serif\; font-size: 12px\; background-color: rgb(255\, 255\, 255)\; text-align: center\;"><span style="font-size: 14px\; color: rgb(0\, 0\, 0)\;">w/ complete schedule!</span></div>\n\n<div align="center" style="color: rgb(64\, 63\, 66)\; font-family: Arial\, Verdana\, Helvetica\, sans-serif\; font-size: 12px\; background-color: rgb(255\, 255\, 255)\; text-align: center\;"><span style="font-size: 14px\; color: rgb(0\, 0\, 0)\;">PINEHURST GOLF and much more!&nbsp\;</span></div>\n
LOCATION:Timberlake Country Club - 222 Timberlake Drive\, Chapin
UID:e.1644.2406
SEQUENCE:3
DTSTAMP:20260422T055945Z
URL:https://business.chapinchamber.com/events/details/chapin-woman-s-club-fabulous-flamingo-fling-2406
END:VEVENT

END:VCALENDAR
