BEGIN:VCALENDAR
VERSION:2.0
PRODID:-//ChamberMaster//Event Calendar 2.0//EN
METHOD:PUBLISH
X-PUBLISHED-TTL:P3D
REFRESH-INTERVAL:P3D
CALSCALE:GREGORIAN
BEGIN:VEVENT
DTSTART:20190131T223000Z
DTEND:20190131T233000Z
X-MICROSOFT-CDO-ALLDAYEVENT:FALSE
SUMMARY:Chapin Young Professionals After Hours
DESCRIPTION:Join Rebecca and meet other engaged and motivated young professionals looking to network and grow together into meaningful leadership roles\, which will offer a positive impact on the community and improve the livability of the Greater Chapin area.  Interested in becoming a YP to the Chapin Chamber? Contact Rebecca at director@chapinchamber.com
X-ALT-DESC;FMTTYPE=text/html:Join Rebecca and meet other engaged and motivated young professionals looking to network and grow together into meaningful leadership roles\, which will offer a positive impact on the community and improve the livability of the Greater Chapin area.&nbsp\; Interested in becoming a YP to the Chapin Chamber? Contact Rebecca at director@chapinchamber.com
LOCATION:Tipsy Toad Tavern - 103 Beaufort Street\, Suite C\, Chapin
UID:e.1644.2292
SEQUENCE:3
DTSTAMP:20260422T105158Z
URL:https://business.chapinchamber.com/events/details/chapin-young-professionals-after-hours-2292
END:VEVENT

END:VCALENDAR
