BEGIN:VCALENDAR
VERSION:2.0
PRODID:-//ChamberMaster//Event Calendar 2.0//EN
METHOD:PUBLISH
X-PUBLISHED-TTL:P3D
REFRESH-INTERVAL:P3D
CALSCALE:GREGORIAN
BEGIN:VEVENT
DTSTART:20190228T230000Z
DTEND:20190301T000000Z
X-MICROSOFT-CDO-ALLDAYEVENT:FALSE
SUMMARY:Chapin Young Professionals After Hours
DESCRIPTION:
X-ALT-DESC;FMTTYPE=text/html:
LOCATION:Timberlake - Purple Martin Grille & Bar - 222 Timberlake Drive\, Chapin SC
UID:e.1644.2325
SEQUENCE:3
DTSTAMP:20260422T112213Z
URL:https://business.chapinchamber.com/events/details/chapin-young-professionals-after-hours-2325
END:VEVENT

END:VCALENDAR
