BEGIN:VCALENDAR
VERSION:2.0
PRODID:-//ChamberMaster//Event Calendar 2.0//EN
METHOD:PUBLISH
X-PUBLISHED-TTL:P3D
REFRESH-INTERVAL:P3D
CALSCALE:GREGORIAN
BEGIN:VEVENT
DTSTART:20190509T213000Z
DTEND:20190509T230000Z
X-MICROSOFT-CDO-ALLDAYEVENT:FALSE
SUMMARY:Chapin Young Professionals Networking Happy Hour
DESCRIPTION:Please come join the Chapin Young Professionals for our next business after hours event!
X-ALT-DESC;FMTTYPE=text/html:Please come join the Chapin Young Professionals for our next business after hours event!
LOCATION:The Pompeii Oven - 912 Chapin Road\, Chapin
UID:e.1644.2435
SEQUENCE:3
DTSTAMP:20260422T054937Z
URL:https://business.chapinchamber.com/events/details/chapin-young-professionals-networking-happy-hour-2435
END:VEVENT

END:VCALENDAR
