BEGIN:VCALENDAR
VERSION:2.0
PRODID:-//ChamberMaster//Event Calendar 2.0//EN
METHOD:PUBLISH
X-PUBLISHED-TTL:P3D
REFRESH-INTERVAL:P3D
CALSCALE:GREGORIAN
BEGIN:VEVENT
DTSTART:20180710T120000Z
DTEND:20180710T133000Z
X-MICROSOFT-CDO-ALLDAYEVENT:FALSE
SUMMARY:Coffee & Conversation New Member Drop In
DESCRIPTION:Members/businesses who have joined the Chamber from April - July 2018 are welcome to join us for our second of three Coffee & Conversation sessions to learn more about your Chamber of Commerce. You are welcome to drop in anytime from 8 a.m. to 9:30 a.m. for delicious java and breakfast treats and have a chat with the Chamber staff!
X-ALT-DESC;FMTTYPE=text/html:Members/businesses who have joined the Chamber from April - July 2018 are welcome to join us for our second of three Coffee &amp\; Conversation sessions to learn more about your Chamber of Commerce. You are welcome to drop in anytime from 8 a.m. to 9:30 a.m. for delicious java and breakfast treats and have a chat with the Chamber staff!
LOCATION:Chapin Chamber of Commerce - 302 Columbia Avenue Chapin
UID:e.1644.1171
SEQUENCE:3
DTSTAMP:20260422T220226Z
URL:https://business.chapinchamber.com/events/details/coffee-conversation-new-member-drop-in-1171
END:VEVENT

END:VCALENDAR
