BEGIN:VCALENDAR
VERSION:2.0
PRODID:-//ChamberMaster//Event Calendar 2.0//EN
METHOD:PUBLISH
X-PUBLISHED-TTL:P3D
REFRESH-INTERVAL:P3D
CALSCALE:GREGORIAN
BEGIN:VEVENT
DTSTART:20181117T160000Z
DTEND:20181117T180000Z
X-MICROSOFT-CDO-ALLDAYEVENT:FALSE
SUMMARY:Community Appreciation Day - Hot Dog Lunch
DESCRIPTION:Grilled Hotdogs\, Chips\, Soft Drinks\, Tea\, and Water will be provided.  Come and enjoy fellowship and camaraderie.  For all Community members!  Tents\, tables and chairs will be set up for your comfort.
X-ALT-DESC;FMTTYPE=text/html:Grilled Hotdogs\, Chips\, Soft Drinks\, Tea\, and Water will be provided.&nbsp\; Come and enjoy fellowship and camaraderie.&nbsp\; For all Community members!&nbsp\; Tents\, tables and chairs will be set up for your comfort.&nbsp\;&nbsp\;
LOCATION:Boland's Ace Hardware - 745 Chapin Road
UID:e.1644.2278
SEQUENCE:3
DTSTAMP:20260422T150459Z
URL:https://business.chapinchamber.com/events/details/community-appreciation-day-hot-dog-lunch-2278
END:VEVENT

END:VCALENDAR
