BEGIN:VCALENDAR
VERSION:2.0
PRODID:-//ChamberMaster//Event Calendar 2.0//EN
METHOD:PUBLISH
X-PUBLISHED-TTL:P3D
REFRESH-INTERVAL:P3D
CALSCALE:GREGORIAN
BEGIN:VEVENT
DTSTART:20180821T141500Z
DTEND:20180821T151500Z
X-MICROSOFT-CDO-ALLDAYEVENT:FALSE
SUMMARY:Congressman Joe Wilson Visits Chapin
DESCRIPTION:Congressman Joe Wilson Bus Tour 2018\n\nJoin the staff at Town Hall as they welcome Congressman Joe Wilson when he visits as part of his annual district Bus Tour to meet with constituents where he will discuss concerns you may have as well as to share news from Washington!
X-ALT-DESC;FMTTYPE=text/html:<span style="font-family: Arial\, Verdana\, Helvetica\, sans-serif\; font-size: 14px\; text-align: center\; white-space: pre-wrap\; background-color: rgb(255\, 255\, 255)\;">Congressman Joe Wilson Bus Tour 2018<br />\nJoin the staff at Town Hall as they welcome Congressman Joe Wilson when he visits as part of his annual district Bus Tour to meet with constituents where he will discuss concerns you may have as well as to share news from Washington! </span>
LOCATION:Chapin Town Hall - 157 NW Columbia Avenue\, Chapin
UID:e.1644.2222
SEQUENCE:3
DTSTAMP:20260422T220404Z
URL:https://business.chapinchamber.com/events/details/congressman-joe-wilson-visits-chapin-2222
END:VEVENT

END:VCALENDAR
