BEGIN:VCALENDAR
VERSION:2.0
PRODID:-//ChamberMaster//Event Calendar 2.0//EN
METHOD:PUBLISH
X-PUBLISHED-TTL:P3D
REFRESH-INTERVAL:P3D
CALSCALE:GREGORIAN
BEGIN:VEVENT
DTSTART:20190925T130000Z
DTEND:20190925T200000Z
X-MICROSOFT-CDO-ALLDAYEVENT:FALSE
SUMMARY:Constant Contact Academy Email Marketing "Bootcamp" Workshop
DESCRIPTION:Please join us as we combine forces with Aaron Means and ACTIVATE \n\nfor a Constant Contact Academy\n\nEmail Marketing "Bootcamp" Workshop.\n\nGet Years worth of Email Marketing Experience in just one day!  \n\nThis event is limited so that attendees can receive personal attention. \n\nThis event has sold out every year\, so register now before it fills up!\n\nLunch is included.
X-ALT-DESC;FMTTYPE=text/html:<div style="color: rgb(64\, 63\, 66)\; font-family: Arial\, Verdana\, Helvetica\, sans-serif\; font-size: 14px\; white-space: pre-wrap\; background-color: rgb(255\, 255\, 255)\; text-align: center\;"><span style="font-size:14px\;"><span style="font-family:arial\;"><span style="color: rgb(0\, 0\, 0)\;">Please join us as we combine forces with Aaron Means and ACTIVATE </span></span></span></div>\n\n<div style="color: rgb(64\, 63\, 66)\; font-family: Arial\, Verdana\, Helvetica\, sans-serif\; font-size: 14px\; white-space: pre-wrap\; background-color: rgb(255\, 255\, 255)\; text-align: center\;"><span style="font-size:14px\;"><span style="font-family:arial\;"><span style="color: rgb(0\, 0\, 0)\;">for a Constant Contact Academy</span></span></span></div>\n\n<div style="color: rgb(64\, 63\, 66)\; font-family: Arial\, Verdana\, Helvetica\, sans-serif\; font-size: 14px\; white-space: pre-wrap\; background-color: rgb(255\, 255\, 255)\; text-align: center\;"><span style="font-size:14px\;"><span style="font-family:arial\;"><span style="color: rgb(0\, 0\, 0)\;">Email Marketing&nbsp\;&quot\;Bootcamp&quot\; Workshop.</span></span></span></div>\n\n<div style="color: rgb(64\, 63\, 66)\; font-family: Arial\, Verdana\, Helvetica\, sans-serif\; font-size: 14px\; white-space: pre-wrap\; background-color: rgb(255\, 255\, 255)\; text-align: center\;"><span style="font-size:14px\;"><span style="font-family:arial\;"><span style="color: rgb(0\, 0\, 0)\;">Get Years worth of Email Marketing Experience in just one day!&nbsp\;&nbsp\;</span></span></span></div>\n\n<div style="color: rgb(64\, 63\, 66)\; font-family: Arial\, Verdana\, Helvetica\, sans-serif\; font-size: 14px\; white-space: pre-wrap\; background-color: rgb(255\, 255\, 255)\; text-align: center\;"><span style="font-size:14px\;"><span style="font-family:arial\;"><span style="color: rgb(0\, 0\, 0)\;">This event is limited so that attendees can receive personal attention. </span></span></span></div>\n\n<div style="color: rgb(64\, 63\, 66)\; font-family: Arial\, Verdana\, Helvetica\, sans-serif\; font-size: 14px\; white-space: pre-wrap\; background-color: rgb(255\, 255\, 255)\; text-align: center\;"><span style="font-size:14px\;"><span style="font-family:arial\;"><span style="color: rgb(0\, 0\, 0)\;">This event has sold out&nbsp\;every year\, so register now before it fills up!<br />\nLunch is included.</span></span></span></div>\n
LOCATION:Chapin Chamber of Commerce - 302 Columbia Avenue\, Chapin
UID:e.1644.2503
SEQUENCE:3
DTSTAMP:20260426T004948Z
URL:https://business.chapinchamber.com/events/details/constant-contact-academy-email-marketing-bootcamp-workshop-2503
END:VEVENT

END:VCALENDAR
