BEGIN:VCALENDAR
VERSION:2.0
PRODID:-//ChamberMaster//Event Calendar 2.0//EN
METHOD:PUBLISH
X-PUBLISHED-TTL:P3D
REFRESH-INTERVAL:P3D
CALSCALE:GREGORIAN
BEGIN:VEVENT
DTSTART:20190620T160000Z
DTEND:20190620T173000Z
X-MICROSOFT-CDO-ALLDAYEVENT:FALSE
SUMMARY:"Constructing the Chapin Community" June Member Luncheon
DESCRIPTION:Please join us for our June Chamber Luncheon hosted by Springhill Construction and NAI Columbia.  Our hosts will be discussing everything construction.  Come learn proper building methods and what's happening with the development inside the Chapin community. There will be plenty of opportunity for Q&A and also an opportunity for your personal input! Big door prizes and take away items for all attendees.  Fantastic food from Kelly's Cuisine of Chapin.  Come and learn what's happening in Chapin\, SC!\n\nREGISTER NOW
X-ALT-DESC;FMTTYPE=text/html:Please join us for our June Chamber Luncheon hosted by Springhill Construction and NAI Columbia.&nbsp\; Our hosts will be discussing everything construction.&nbsp\; Come learn proper building methods and what&#39\;s happening with the development inside the Chapin community. There will be plenty of opportunity for Q&amp\;A and also an opportunity for your personal input! Big door prizes and take away items for all attendees.&nbsp\; Fantastic food from Kelly&#39\;s Cuisine of Chapin.&nbsp\; Come and learn what&#39\;s happening in Chapin\, SC!<br />\n<a href="https://events.r20.constantcontact.com/register/eventReg?oeidk=a07egcqaqv371c56f47&amp\;oseq=&amp\;c=&amp\;ch="><strong>REGISTER NOW</strong></a>
LOCATION:Town of Chapin - 157 NW Columbia Avenue\, Chapin SC
UID:e.1644.2473
SEQUENCE:3
DTSTAMP:20260426T040314Z
URL:https://business.chapinchamber.com/events/details/constructing-the-chapin-community-june-member-luncheon-2473
END:VEVENT

END:VCALENDAR
