BEGIN:VCALENDAR
VERSION:2.0
PRODID:-//ChamberMaster//Event Calendar 2.0//EN
METHOD:PUBLISH
X-PUBLISHED-TTL:P3D
REFRESH-INTERVAL:P3D
CALSCALE:GREGORIAN
BEGIN:VEVENT
DTSTART;VALUE=DATE:20190225
DTEND;VALUE=DATE:20190330
TRANSP:TRANSPARENT
X-MICROSOFT-CDO-ALLDAYEVENT:TRUE
SUMMARY:Crooked Creek Art League Juried Art Show & Sale
DESCRIPTION:ince 1995\, CCAL has been pleased\n\nto host an annual Art Show and Sale which showcases the wonderful\n\nartwork of their members.\n\nThe show features 2D artwork in both amateur and professional categories as well as Photography and 3D artwork.\n\nThe show is juried each year by a\n\nwell-known artist independent of CCAL.\n\nThis year the Jurors will be Shannon\n\nSmith Hughes and Jennifer Smith\n\n Rogers of Charleston.\n\nThe show typically includes over 100 works of art with dozens of prizes awarded to winners in a variety of categories.
X-ALT-DESC;FMTTYPE=text/html:<div align="center" style="color: rgb(64\, 63\, 66)\; font-family: Arial\, Verdana\, Helvetica\, sans-serif\; font-size: 12px\; background-color: rgb(255\, 255\, 255)\; text-align: center\;"><span style="font-size: 14px\; color: rgb(0\, 0\, 0)\;">ince 1995\, CCAL has been pleased</span></div>\n\n<div align="center" style="color: rgb(64\, 63\, 66)\; font-family: Arial\, Verdana\, Helvetica\, sans-serif\; font-size: 12px\; background-color: rgb(255\, 255\, 255)\; text-align: center\;"><span style="font-size: 14px\; color: rgb(0\, 0\, 0)\;">to host an annual Art Show and Sale which showcases the wonderful</span></div>\n\n<div align="center" style="color: rgb(64\, 63\, 66)\; font-family: Arial\, Verdana\, Helvetica\, sans-serif\; font-size: 12px\; background-color: rgb(255\, 255\, 255)\; text-align: center\;"><span style="font-size: 14px\; color: rgb(0\, 0\, 0)\;">artwork of their members.</span></div>\n\n<div align="center" style="color: rgb(64\, 63\, 66)\; font-family: Arial\, Verdana\, Helvetica\, sans-serif\; font-size: 12px\; background-color: rgb(255\, 255\, 255)\; text-align: center\;"><span style="font-size: 14px\; color: rgb(0\, 0\, 0)\;">The show features 2D artwork in both amateur and professional categories as well as Photography and 3D artwork.</span></div>\n\n<div align="center" style="color: rgb(64\, 63\, 66)\; font-family: Arial\, Verdana\, Helvetica\, sans-serif\; font-size: 12px\; background-color: rgb(255\, 255\, 255)\; text-align: center\;"><span style="font-size: 14px\; color: rgb(0\, 0\, 0)\;">The show is juried each year by a</span></div>\n\n<div align="center" style="color: rgb(64\, 63\, 66)\; font-family: Arial\, Verdana\, Helvetica\, sans-serif\; font-size: 12px\; background-color: rgb(255\, 255\, 255)\; text-align: center\;"><span style="font-size: 14px\; color: rgb(0\, 0\, 0)\;">well-known artist independent of CCAL.</span></div>\n\n<div align="center" style="color: rgb(64\, 63\, 66)\; font-family: Arial\, Verdana\, Helvetica\, sans-serif\; font-size: 12px\; background-color: rgb(255\, 255\, 255)\; text-align: center\;"><span style="font-size: 14px\; color: rgb(0\, 0\, 0)\;">This year the Jurors will be Shannon</span></div>\n\n<div align="center" style="color: rgb(64\, 63\, 66)\; font-family: Arial\, Verdana\, Helvetica\, sans-serif\; font-size: 12px\; background-color: rgb(255\, 255\, 255)\; text-align: center\;"><span style="font-size: 14px\; color: rgb(0\, 0\, 0)\;">Smith Hughes and Jennifer Smith</span></div>\n\n<div align="center" style="color: rgb(64\, 63\, 66)\; font-family: Arial\, Verdana\, Helvetica\, sans-serif\; font-size: 12px\; background-color: rgb(255\, 255\, 255)\; text-align: center\;"><span style="font-size: 14px\; color: rgb(0\, 0\, 0)\;">&#65279\;Rogers of Charleston.</span></div>\n\n<div align="center" style="color: rgb(64\, 63\, 66)\; font-family: Arial\, Verdana\, Helvetica\, sans-serif\; font-size: 12px\; background-color: rgb(255\, 255\, 255)\; text-align: center\;"><span style="font-size: 14px\; color: rgb(0\, 0\, 0)\;">The show typically includes over 100 works of art with dozens of prizes awarded to winners in a variety of categories.</span></div>\n
LOCATION:Crooked Creek Park - 1098 Old Lexington Hwy\, Chapin SC
UID:e.1644.2387
SEQUENCE:3
DTSTAMP:20260422T075809Z
URL:https://business.chapinchamber.com/events/details/crooked-creek-art-league-juried-art-show-sale-2387
END:VEVENT

END:VCALENDAR
