BEGIN:VCALENDAR
VERSION:2.0
PRODID:-//ChamberMaster//Event Calendar 2.0//EN
METHOD:PUBLISH
X-PUBLISHED-TTL:P3D
REFRESH-INTERVAL:P3D
CALSCALE:GREGORIAN
BEGIN:VEVENT
DTSTART:20191102T120000Z
DTEND:20191102T160000Z
X-MICROSOFT-CDO-ALLDAYEVENT:FALSE
SUMMARY:CUMC Annual Bazaar
DESCRIPTION:You are invited to enjoy many of their homemade\, canned and baked goods including casseroles & soups.  Holiday decorations\, sewing and woodworking items!
X-ALT-DESC;FMTTYPE=text/html:You are invited to enjoy many of their homemade\, canned and baked goods including casseroles &amp\; soups.&nbsp\; Holiday decorations\, sewing and woodworking items!
LOCATION:Chapin United Methodist Church - 415 Lexington Avenue\, Chapin
UID:e.1644.3550
SEQUENCE:3
DTSTAMP:20260425T225506Z
URL:https://business.chapinchamber.com/events/details/cumc-annual-bazaar-3550
END:VEVENT

END:VCALENDAR
