BEGIN:VCALENDAR
VERSION:2.0
PRODID:-//ChamberMaster//Event Calendar 2.0//EN
METHOD:PUBLISH
X-PUBLISHED-TTL:P3D
REFRESH-INTERVAL:P3D
CALSCALE:GREGORIAN
BEGIN:VEVENT
DTSTART:20181015T120000Z
DTEND:20181019T220000Z
X-MICROSOFT-CDO-ALLDAYEVENT:FALSE
SUMMARY:Customer Appreciation Week - Taylors Auto
DESCRIPTION:Join Taylor's Auto for their week long Customer Appreciation extravaganza. Special Deals each day of the week!  Visit their website  https://www.taylorsautochapin.net/ to view the daily deals. Call and schedule your appointment today\, time slots will fill up quickly!
X-ALT-DESC;FMTTYPE=text/html:Join Taylor&#39\;s Auto for their week long Customer Appreciation extravaganza. Special Deals each day of the week!&nbsp\; Visit their website&nbsp\;&nbsp\;<a href="https://www.taylorsautochapin.net/">https://www.taylorsautochapin.net/</a>&nbsp\;to view the daily deals. Call and schedule your appointment today\, time slots will fill up quickly!
LOCATION:Taylors Auto Service 325 Chapin Road\, Chapin SC
UID:e.1644.2238
SEQUENCE:3
DTSTAMP:20260422T164935Z
URL:https://business.chapinchamber.com/events/details/customer-appreciation-week-taylors-auto-2238
END:VEVENT

END:VCALENDAR
