BEGIN:VCALENDAR
VERSION:2.0
PRODID:-//ChamberMaster//Event Calendar 2.0//EN
METHOD:PUBLISH
X-PUBLISHED-TTL:P3D
REFRESH-INTERVAL:P3D
CALSCALE:GREGORIAN
BEGIN:VEVENT
DTSTART:20190602T210000Z
DTEND:20190602T230000Z
X-MICROSOFT-CDO-ALLDAYEVENT:FALSE
SUMMARY:Divorce Care Seminar
DESCRIPTION:Divorce Care is a support and recovery group that deals with hurts and offers tools for rebuilding lives. Meetings run in 13 week cycles with our next session starting on June 2nd. Meetings are held Sunday evenings at Chapin Baptist church. For more information call 803-345-3477 or email info@chapinbaptist.com
X-ALT-DESC;FMTTYPE=text/html:Divorce Care is a support and recovery group that deals with hurts and offers tools for rebuilding lives. Meetings run in 13 week cycles with our next session starting on June 2nd. Meetings are held Sunday evenings at Chapin Baptist church. For more information call 803-345-3477 or email info@chapinbaptist.com
LOCATION:Chapin Baptist Church 950 Old Lexington Hwy Chapin\, SC 29036
UID:e.1644.2418
SEQUENCE:3
DTSTAMP:20260422T015604Z
URL:https://business.chapinchamber.com/events/details/divorce-care-seminar-2418
END:VEVENT

END:VCALENDAR
