BEGIN:VCALENDAR
VERSION:2.0
PRODID:-//ChamberMaster//Event Calendar 2.0//EN
METHOD:PUBLISH
X-PUBLISHED-TTL:P3D
REFRESH-INTERVAL:P3D
CALSCALE:GREGORIAN
BEGIN:VEVENT
DTSTART:20191110T220000Z
DTEND:20191111T000000Z
X-MICROSOFT-CDO-ALLDAYEVENT:FALSE
SUMMARY:Divorce Care Seminar for Kids
DESCRIPTION:Divorce Care for Kids is a special group to help children heal from the hurt caused by the separation or divorce of their parents.  Chapin Baptist Church will be offering Divorce Care for Teens beginning Sunday\, September 15\, 2019. Divorce Care for Teens is designed specifically for Middle and High School students navigating their parents separation and/or divorce.  We provide a safe environment to address the feelings of anger\, frustration and confusion so students can move toward healing and hope.  Register at www.chapinbaptist.com
X-ALT-DESC;FMTTYPE=text/html:<span style="color: rgb(45\, 45\, 45)\; font-family: &quot\;open sans&quot\;\, sans-serif\; font-size: 14px\;">Divorce Care for Kids is a special group to help children heal from the hurt caused by the separation or divorce of their parents.&nbsp\; Chapin Baptist Church will be&nbsp\;</span><span style="color: rgb(45\, 45\, 45)\; font-family: &quot\;open sans&quot\;\, sans-serif\; font-size: 14px\;">offering Divorce Care for Teens beginning Sunday\, September 15\, 2019. Divorce Care for Teens is designed specifically for Middle and High School students navigating their parents separation and/or divorce. &nbsp\;We provide a safe environment to address the feelings of anger\, frustration and confusion so students can move toward healing and hope.&nbsp\;&nbsp\;Register at <a href="https://www.chapinbaptist.com/">www.chapinbaptist.com&nbsp\;</a></span>
LOCATION:Chapin Baptist Church 950 Old Lexington Hwy Chapin\, SC 29036
UID:e.1644.2527
SEQUENCE:3
DTSTAMP:20260425T231210Z
URL:https://business.chapinchamber.com/events/details/divorce-care-seminar-for-kids-11-10-2019-2527
END:VEVENT

END:VCALENDAR
