BEGIN:VCALENDAR
VERSION:2.0
PRODID:-//ChamberMaster//Event Calendar 2.0//EN
METHOD:PUBLISH
X-PUBLISHED-TTL:P3D
REFRESH-INTERVAL:P3D
CALSCALE:GREGORIAN
BEGIN:VEVENT
DTSTART:20181020T210000Z
DTEND:20181021T030000Z
X-MICROSOFT-CDO-ALLDAYEVENT:FALSE
SUMMARY:Fall for Chapin Street Festival & Chili Cook-Off
DESCRIPTION:Fall for Chapin Street Festival & Chili Cook-Off!! \n\n$10 will get you entrance into the Chili Cook-off. \n\nAlso\, there will be live music by a local popular band!! \n\nThis fall festival will benefit the Greater Chapin Community Endowment\, which supports local non-profit organizations. \n\n \n\nThere will be a Craft Fair\, Farmer's Market\, Corn Hole Tournament\, Live Music\, Beverages\, Chili and Pawley's Front Porch will be available for additional food! \n\n \n\n*Chili Cook-Off Entry fee is free\, as Chili will not be sold* \n\nSamples will be given to guests for voting by everyone.\n\n \n\nSponsorship spots are available and Vendor fee is also $20.00\n\n*To Become a Vendor\, Sponsor\, or Compete in Chili Cook-Off\, please email geraldmeetze@yahoo.com for information*
X-ALT-DESC;FMTTYPE=text/html:<div style="color: rgb(64\, 63\, 66)\; font-family: Arial\, Verdana\, Helvetica\, sans-serif\; font-size: 12px\; white-space: pre-wrap\; background-color: rgb(255\, 255\, 255)\; text-align: center\;"><span style="font-size: 14px\; color: rgb(134\, 44\, 33)\; font-weight: bold\;">Fall for Chapin Street Festival &amp\; Chili Cook-Off!!&nbsp\;</span></div>\n\n<div style="color: rgb(64\, 63\, 66)\; font-family: Arial\, Verdana\, Helvetica\, sans-serif\; font-size: 12px\; white-space: pre-wrap\; background-color: rgb(255\, 255\, 255)\; text-align: center\;"><span style="font-size: 14px\; color: rgb(134\, 44\, 33)\; font-weight: bold\;">$10 will get you entrance into the Chili Cook-off. </span></div>\n\n<div style="color: rgb(64\, 63\, 66)\; font-family: Arial\, Verdana\, Helvetica\, sans-serif\; font-size: 12px\; white-space: pre-wrap\; background-color: rgb(255\, 255\, 255)\; text-align: center\;"><span style="font-size: 14px\; color: rgb(134\, 44\, 33)\; font-weight: bold\;">Also\, there will be live music by a local popular band!!&nbsp\;</span></div>\n\n<div style="color: rgb(64\, 63\, 66)\; font-family: Arial\, Verdana\, Helvetica\, sans-serif\; font-size: 12px\; white-space: pre-wrap\; background-color: rgb(255\, 255\, 255)\; text-align: center\;"><span style="font-size: 14px\; color: rgb(134\, 44\, 33)\; font-weight: bold\;">This fall festival will benefit the Greater Chapin Community Endowment\, which supports local non-profit organizations.&nbsp\;</span></div>\n\n<div style="color: rgb(64\, 63\, 66)\; font-family: Arial\, Verdana\, Helvetica\, sans-serif\; font-size: 12px\; white-space: pre-wrap\; background-color: rgb(255\, 255\, 255)\; text-align: center\;">&nbsp\;</div>\n\n<div style="color: rgb(64\, 63\, 66)\; font-family: Arial\, Verdana\, Helvetica\, sans-serif\; font-size: 12px\; white-space: pre-wrap\; background-color: rgb(255\, 255\, 255)\; text-align: center\;"><span style="font-size: 14px\; color: rgb(134\, 44\, 33)\; font-weight: bold\;">There will be a Craft Fair\, Farmer&rsquo\;s Market\, Corn Hole Tournament\, Live Music\, Beverages\, Chili and Pawley&rsquo\;s Front Porch will be available for additional food!&nbsp\;</span></div>\n\n<div style="color: rgb(64\, 63\, 66)\; font-family: Arial\, Verdana\, Helvetica\, sans-serif\; font-size: 12px\; white-space: pre-wrap\; background-color: rgb(255\, 255\, 255)\; text-align: center\;">&nbsp\;</div>\n\n<div style="color: rgb(64\, 63\, 66)\; font-family: Arial\, Verdana\, Helvetica\, sans-serif\; font-size: 12px\; white-space: pre-wrap\; background-color: rgb(255\, 255\, 255)\; text-align: center\;"><span style="font-size: 14px\; color: rgb(134\, 44\, 33)\; font-weight: bold\;">*Chili Cook-Off Entry fee is free\, as Chili will not be sold* </span></div>\n\n<div style="color: rgb(64\, 63\, 66)\; font-family: Arial\, Verdana\, Helvetica\, sans-serif\; font-size: 12px\; white-space: pre-wrap\; background-color: rgb(255\, 255\, 255)\; text-align: center\;"><span style="font-size: 14px\; color: rgb(134\, 44\, 33)\; font-weight: bold\;">Samples will be given to guests for voting by everyone.</span></div>\n\n<div style="color: rgb(64\, 63\, 66)\; font-family: Arial\, Verdana\, Helvetica\, sans-serif\; font-size: 12px\; white-space: pre-wrap\; background-color: rgb(255\, 255\, 255)\; text-align: center\;">&nbsp\;</div>\n\n<div style="color: rgb(64\, 63\, 66)\; font-family: Arial\, Verdana\, Helvetica\, sans-serif\; font-size: 12px\; white-space: pre-wrap\; background-color: rgb(255\, 255\, 255)\; text-align: center\;"><span style="font-size: 14px\; color: rgb(134\, 44\, 33)\; font-weight: bold\;">Sponsorship spots are available and Vendor fee is also $20.00</span></div>\n\n<div style="color: rgb(64\, 63\, 66)\; font-family: Arial\, Verdana\, Helvetica\, sans-serif\; font-size: 12px\; white-space: pre-wrap\; background-color: rgb(255\, 255\, 255)\; text-align: center\;"><span style="font-size: 14px\; color: rgb(134\, 44\, 33)\; font-weight: bold\;">*To Become a Vendor\, Sponsor\, or Compete in Chili Cook-Off\, please email </span><span style="font-size: 14px\; color: rgb(0\, 0\, 0)\; font-weight: bold\;">geraldmeetze@yahoo.com</span><span style="font-size: 14px\; color: rgb(134\, 44\, 33)\; font-weight: bold\;"> for information*</span></div>\n
LOCATION:Beaufort Street\, Chapin SC
UID:e.1644.2239
SEQUENCE:3
DTSTAMP:20260422T165450Z
URL:https://business.chapinchamber.com/events/details/fall-for-chapin-street-festival-chili-cook-off-2239
END:VEVENT

END:VCALENDAR
