BEGIN:VCALENDAR
VERSION:2.0
PRODID:-//ChamberMaster//Event Calendar 2.0//EN
METHOD:PUBLISH
X-PUBLISHED-TTL:P3D
REFRESH-INTERVAL:P3D
CALSCALE:GREGORIAN
BEGIN:VEVENT
DTSTART;VALUE=DATE:20190616
DTEND;VALUE=DATE:20190617
TRANSP:TRANSPARENT
X-MICROSOFT-CDO-ALLDAYEVENT:TRUE
SUMMARY:Father's Day
DESCRIPTION:Father's Day is the time of year to give a special shout out to the great dads who work hard every day to be hands-on parents and positive role models for their children.
X-ALT-DESC;FMTTYPE=text/html:<span style="font-family: &quot\;PT Serif&quot\;\, serif\; font-size: 18px\; background-color: rgb(255\, 255\, 255)\;">Father&#39\;s Day is the time of year to give a special shout out to the great dads who work hard every day to be hands-on parents and positive role models for their children.&nbsp\;</span>
LOCATION:
UID:e.1644.2439
SEQUENCE:3
DTSTAMP:20260422T015427Z
URL:https://business.chapinchamber.com/events/details/father-s-day-2439
END:VEVENT

END:VCALENDAR
