BEGIN:VCALENDAR
VERSION:2.0
PRODID:-//ChamberMaster//Event Calendar 2.0//EN
METHOD:PUBLISH
X-PUBLISHED-TTL:P3D
REFRESH-INTERVAL:P3D
CALSCALE:GREGORIAN
BEGIN:VEVENT
DTSTART:20190221T170000Z
DTEND:20190221T183000Z
X-MICROSOFT-CDO-ALLDAYEVENT:FALSE
SUMMARY:February Member Luncheon Sponsored by LMC
DESCRIPTION:Please save the date for our first Luncheon Member Meeting for 2019! This event will be sponsored by Lexington Medical Center.
X-ALT-DESC;FMTTYPE=text/html:<span style="color: rgb(68\, 68\, 68)\; font-family: &quot\;Open Sans&quot\;\, Helvetica\, Arial\, sans-serif\; font-size: 14px\; background-color: rgb(255\, 255\, 255)\;">Please save the date for our first Luncheon Member Meeting for 2019! This event will be sponsored by Lexington Medical Center.&nbsp\;</span>
LOCATION:Our event will be held at Chapin Town Hall - 157 NW Columbia Avenue from 12 noon - 1:30 p.m. More details to follow along with a registration link.
UID:e.1644.1169
SEQUENCE:3
DTSTAMP:20260422T092811Z
URL:https://business.chapinchamber.com/events/details/february-member-luncheon-sponsored-by-lmc-1169
END:VEVENT

END:VCALENDAR
