BEGIN:VCALENDAR
VERSION:2.0
PRODID:-//ChamberMaster//Event Calendar 2.0//EN
METHOD:PUBLISH
X-PUBLISHED-TTL:P3D
REFRESH-INTERVAL:P3D
CALSCALE:GREGORIAN
BEGIN:VEVENT
DTSTART:20330603T120000Z
DTEND:20330603T130000Z
X-MICROSOFT-CDO-ALLDAYEVENT:FALSE
SUMMARY:First Friday Networking
DESCRIPTION:Join us for coffee\, collaborations\, and networking on the first Friday of each month!
X-ALT-DESC;FMTTYPE=text/html:Join us for coffee\, collaborations\, and networking on the first Friday of each month!
LOCATION:Crooked Creek Park 1098 Old Lexington Hwy\, Chapin\, SC 29036
UID:e.1644.6179
SEQUENCE:3
DTSTAMP:20260419T235940Z
URL:https://business.chapinchamber.com/events/details/first-friday-networking-06-03-2033-6179
END:VEVENT

END:VCALENDAR
