BEGIN:VCALENDAR
VERSION:2.0
PRODID:-//ChamberMaster//Event Calendar 2.0//EN
METHOD:PUBLISH
X-PUBLISHED-TTL:P3D
REFRESH-INTERVAL:P3D
CALSCALE:GREGORIAN
BEGIN:VEVENT
DTSTART:20330805T120000Z
DTEND:20330805T130000Z
X-MICROSOFT-CDO-ALLDAYEVENT:FALSE
SUMMARY:First Friday Networking
DESCRIPTION:Join us for coffee\, collaborations\, and networking on the first Friday of each month!
X-ALT-DESC;FMTTYPE=text/html:Join us for coffee\, collaborations\, and networking on the first Friday of each month!
LOCATION:Crooked Creek Park 1098 Old Lexington Hwy\, Chapin\, SC 29036
UID:e.1644.6181
SEQUENCE:3
DTSTAMP:20260420T035429Z
URL:https://business.chapinchamber.com/events/details/first-friday-networking-08-05-2033-6181
END:VEVENT

END:VCALENDAR
