BEGIN:VCALENDAR
VERSION:2.0
PRODID:-//ChamberMaster//Event Calendar 2.0//EN
METHOD:PUBLISH
X-PUBLISHED-TTL:P3D
REFRESH-INTERVAL:P3D
CALSCALE:GREGORIAN
BEGIN:VEVENT
DTSTART:20191104T123000Z
DTEND:20191104T143000Z
X-MICROSOFT-CDO-ALLDAYEVENT:FALSE
SUMMARY:Free Health Screening with LMC
DESCRIPTION:Free Health Screening - Make sure to fast the night before for the blood test part of the screening. Call the church office at 803-345-2000 to schedule a time.\n\nFlu Shots will NOT be offered
X-ALT-DESC;FMTTYPE=text/html:Free Health Screening - Make sure to fast the night before for the blood test part of the screening. Call the church office at 803-345-2000 to schedule a time.<br />\nFlu Shots will NOT be offered
LOCATION:Mt. Horeb Church - 101 East Boundary Street\, Chapin
UID:e.1644.3552
SEQUENCE:3
DTSTAMP:20260425T225815Z
URL:https://business.chapinchamber.com/events/details/free-health-screening-with-lmc-3552
END:VEVENT

END:VCALENDAR
