BEGIN:VCALENDAR
VERSION:2.0
PRODID:-//ChamberMaster//Event Calendar 2.0//EN
METHOD:PUBLISH
X-PUBLISHED-TTL:P3D
REFRESH-INTERVAL:P3D
CALSCALE:GREGORIAN
BEGIN:VEVENT
DTSTART:20180727T223000Z
DTEND:20180728T003000Z
X-MICROSOFT-CDO-ALLDAYEVENT:FALSE
SUMMARY:Full Moon SUP Yoga
DESCRIPTION:Watch the full moon rise on a beautiful Lake Murray\n\nevening paddle.  Chapin Yoga will open with paddle basics and\n\nthen do a yoga practice on the boards. All-levels\n\nwelcome! Arrive early to check-in/gear-up! You don't\n\nwant to miss a minute! Appropriate attire: anything\n\nyou feel comfortable in that allows you the freedom to\n\nmove\, sweat & get wet!!! Exact address will be\n\nemailed to each student prior to event. Don't forget\n\nyour towel. Bring a drink and snack to share after class if you'd like to stay for the social hour.
X-ALT-DESC;FMTTYPE=text/html:<span style="color: rgb(29\, 33\, 41)\; font-family: Helvetica\, Arial\, sans-serif\; font-size: 14px\;">Watch the full moon rise on a beautiful Lake Murray</span><br style="color: rgb(29\, 33\, 41)\; font-family: Helvetica\, Arial\, sans-serif\; font-size: 14px\;" />\n<span style="color: rgb(29\, 33\, 41)\; font-family: Helvetica\, Arial\, sans-serif\; font-size: 14px\;">evening paddle.&nbsp\; Chapin Yoga will open with paddle basics and</span><br style="color: rgb(29\, 33\, 41)\; font-family: Helvetica\, Arial\, sans-serif\; font-size: 14px\;" />\n<span style="color: rgb(29\, 33\, 41)\; font-family: Helvetica\, Arial\, sans-serif\; font-size: 14px\;">then do a yoga practice on the boards. All-levels</span><br style="color: rgb(29\, 33\, 41)\; font-family: Helvetica\, Arial\, sans-serif\; font-size: 14px\;" />\n<span style="color: rgb(29\, 33\, 41)\; font-family: Helvetica\, Arial\, sans-serif\; font-size: 14px\;">welcome! Arrive early to check-in/gear-up! You don&#39\;t</span><br style="color: rgb(29\, 33\, 41)\; font-family: Helvetica\, Arial\, sans-serif\; font-size: 14px\;" />\n<span style="color: rgb(29\, 33\, 41)\; font-family: Helvetica\, Arial\, sans-serif\; font-size: 14px\;">want to miss a minute! Appropriate attire: anything</span><br style="color: rgb(29\, 33\, 41)\; font-family: Helvetica\, Arial\, sans-serif\; font-size: 14px\;" />\n<span style="color: rgb(29\, 33\, 41)\; font-family: Helvetica\, Arial\, sans-serif\; font-size: 14px\;">you feel comfortable in that allows you the freedom to</span><br style="color: rgb(29\, 33\, 41)\; font-family: Helvetica\, Arial\, sans-serif\; font-size: 14px\;" />\n<span style="color: rgb(29\, 33\, 41)\; font-family: Helvetica\, Arial\, sans-serif\; font-size: 14px\;">move\, sweat &amp\; get wet!!! Exact address will be</span><br style="color: rgb(29\, 33\, 41)\; font-family: Helvetica\, Arial\, sans-serif\; font-size: 14px\;" />\n<span style="color: rgb(29\, 33\, 41)\; font-family: Helvetica\, Arial\, sans-serif\; font-size: 14px\;">emailed to each student prior to event. Don&#39\;t forget</span><br style="color: rgb(29\, 33\, 41)\; font-family: Helvetica\, Arial\, sans-serif\; font-size: 14px\;" />\n<span style="color: rgb(29\, 33\, 41)\; font-family: Helvetica\, Arial\, sans-serif\; font-size: 14px\;">your towel. Bring a drink and snack to share after class if you&#39\;d like to stay for the social hour.&nbsp\;</span>
LOCATION:To be determined
UID:e.1644.2207
SEQUENCE:3
DTSTAMP:20260422T220200Z
URL:https://business.chapinchamber.com/events/details/full-moon-sup-yoga-2207
END:VEVENT

END:VCALENDAR
