BEGIN:VCALENDAR
VERSION:2.0
PRODID:-//ChamberMaster//Event Calendar 2.0//EN
METHOD:PUBLISH
X-PUBLISHED-TTL:P3D
REFRESH-INTERVAL:P3D
CALSCALE:GREGORIAN
BEGIN:VEVENT
DTSTART:20190124T223000Z
DTEND:20190124T233000Z
X-MICROSOFT-CDO-ALLDAYEVENT:FALSE
SUMMARY:Grand Opening/Ribbon Cutting for Lake Murray Drug Company
DESCRIPTION:Please join us as we celebrate the Grand Opening of Lake Murray Drug Company!
X-ALT-DESC;FMTTYPE=text/html:Please join us as we celebrate the Grand Opening of Lake Murray Drug Company!&nbsp\;
LOCATION:105 Snapdragon Court\, Suite A\, Chapin SC
UID:e.1644.2289
SEQUENCE:3
DTSTAMP:20260422T110106Z
URL:https://business.chapinchamber.com/events/details/grand-opening-ribbon-cutting-for-lake-murray-drug-company-2289
END:VEVENT

END:VCALENDAR
