BEGIN:VCALENDAR
VERSION:2.0
PRODID:-//ChamberMaster//Event Calendar 2.0//EN
METHOD:PUBLISH
X-PUBLISHED-TTL:P3D
REFRESH-INTERVAL:P3D
CALSCALE:GREGORIAN
BEGIN:VEVENT
DTSTART:20191122T000000Z
DTEND:20191124T000000Z
X-MICROSOFT-CDO-ALLDAYEVENT:FALSE
SUMMARY:Grease the Musical - Springhill High School
DESCRIPTION:GREASE is the word at Spring Hill High School and you're the one they want!\n\nStallion Theatre Group at Spring Hill is excited to bring you GREASE\, the musical!Here is Rydell High's senior class of 1959: duck-tailed\, hot-rodding "T-Birds" and their gum-snapping\, hip-shaking "Pink Ladies" in bobby sox and pedal pushers\, evoking the look and sound of the 1950s\n\nin this rollicking musical.
X-ALT-DESC;FMTTYPE=text/html:<div align="center" style="color: rgb(64\, 63\, 66)\; font-family: Arial\, Verdana\, Helvetica\, sans-serif\; font-size: 14px\; background-color: rgb(255\, 255\, 255)\; text-align: center\;"><span style="color: rgb(0\, 0\, 0)\;">GREASE is the word at Spring Hill High School and you&#39\;re the one they want!</span></div>\n\n<div align="center" style="color: rgb(64\, 63\, 66)\; font-family: Arial\, Verdana\, Helvetica\, sans-serif\; font-size: 14px\; background-color: rgb(255\, 255\, 255)\; text-align: center\;"><span style="color: rgb(0\, 0\, 0)\;">Stallion Theatre Group at Spring Hill is excited to bring you GREASE\, the musical!</span><span style="color: rgb(0\, 0\, 0)\;">Here is Rydell High&#39\;s senior class of 1959: duck-tailed\, hot-rodding &quot\;T-Birds&quot\; and their gum-snapping\, hip-shaking &quot\;Pink Ladies&quot\; in bobby sox and pedal pushers\, evoking the look and sound of the 1950s</span></div>\n\n<div align="center" style="color: rgb(64\, 63\, 66)\; font-family: Arial\, Verdana\, Helvetica\, sans-serif\; font-size: 14px\; background-color: rgb(255\, 255\, 255)\; text-align: center\;"><span style="color: rgb(0\, 0\, 0)\;">in this rollicking musical.</span></div>\n
LOCATION:Spring Hill High School - 11629 Broad River Road\, Chapin
UID:e.1644.3568
SEQUENCE:3
DTSTAMP:20260425T211407Z
URL:https://business.chapinchamber.com/events/details/grease-the-musical-springhill-high-school-3568
END:VEVENT

END:VCALENDAR
