BEGIN:VCALENDAR
VERSION:2.0
PRODID:-//ChamberMaster//Event Calendar 2.0//EN
METHOD:PUBLISH
X-PUBLISHED-TTL:P3D
REFRESH-INTERVAL:P3D
CALSCALE:GREGORIAN
BEGIN:VEVENT
DTSTART:20181027T010000Z
DTEND:20181027T050000Z
X-MICROSOFT-CDO-ALLDAYEVENT:FALSE
SUMMARY:Halloween Street Party
DESCRIPTION:Halloween Street Party & Costume Crawl - The costume crawl will be broadcast live by the Lexington Ledger starting at 11:00 p.m.  Prizes awarded:  1st Place - $500.00\, 2nd place - $300.00\, 3rd place - $200.00\n\nSee the Tipsy Toad on Facebook for more details!
X-ALT-DESC;FMTTYPE=text/html:Halloween Street Party &amp\; Costume Crawl - The costume crawl will be broadcast live by the Lexington Ledger starting at 11:00 p.m.&nbsp\; Prizes awarded:&nbsp\; 1st Place - $500.00\, 2nd place - $300.00\, 3rd place - $200.00<br />\nSee the Tipsy Toad on Facebook for more details!&nbsp\;
LOCATION:Tipsy Toad Tavern - 103 Beaufort Street\, Chapin
UID:e.1644.2265
SEQUENCE:3
DTSTAMP:20260422T164934Z
URL:https://business.chapinchamber.com/events/details/halloween-street-party-2265
END:VEVENT

END:VCALENDAR
