BEGIN:VCALENDAR
VERSION:2.0
PRODID:-//ChamberMaster//Event Calendar 2.0//EN
METHOD:PUBLISH
X-PUBLISHED-TTL:P3D
REFRESH-INTERVAL:P3D
CALSCALE:GREGORIAN
BEGIN:VEVENT
DTSTART;VALUE=DATE:20180704
DTEND;VALUE=DATE:20180705
TRANSP:TRANSPARENT
X-MICROSOFT-CDO-ALLDAYEVENT:TRUE
SUMMARY:Happy Independence Day!!
DESCRIPTION:This independence day brings forth a new hope to make our tomorrows most beautiful and cherished. We are the land of the free\, we are the home of the brave. Let's pay tribute to our brave American Heroes.  The staff at the Chapin Chamber of Commerce wish all of you a happy and safe July 4th.
X-ALT-DESC;FMTTYPE=text/html:This independence day brings forth a new hope to make our tomorrows most beautiful and cherished. We are the land of the free\, we are the home of the brave. Let&#39\;s pay tribute to our brave American Heroes.&nbsp\; The staff at the Chapin Chamber of Commerce wish all of you a happy and safe July 4th.&nbsp\;&nbsp\;
LOCATION:
UID:e.1644.2198
SEQUENCE:3
DTSTAMP:20260422T220109Z
URL:https://business.chapinchamber.com/events/details/happy-independence-day-2198
END:VEVENT

END:VCALENDAR
