BEGIN:VCALENDAR
VERSION:2.0
PRODID:-//ChamberMaster//Event Calendar 2.0//EN
METHOD:PUBLISH
X-PUBLISHED-TTL:P3D
REFRESH-INTERVAL:P3D
CALSCALE:GREGORIAN
BEGIN:VEVENT
DTSTART:20181113T230000Z
DTEND:20181114T010000Z
X-MICROSOFT-CDO-ALLDAYEVENT:FALSE
SUMMARY:Healthsource Chiropractic & Progressive Wellness
DESCRIPTION:Come for a night of fun with your Mom\, sister or best friend!  Learn about health\, have food\, WINE and SHOP...who doesn't love that? Did we say WINE?  Free to the Public! They have many vendors offering great deals so come check us out!
X-ALT-DESC;FMTTYPE=text/html:Come for a night of fun with your Mom\, sister or best friend!&nbsp\; Learn about health\, have food\, WINE and SHOP...who doesn&#39\;t love that? Did we say WINE?&nbsp\; Free to the Public! They have many vendors offering great deals so come check us out!&nbsp\;&nbsp\;
LOCATION:Healthsource Chiropractic & Progressive Wellness - 910 Chapin Road\, Chapin
UID:e.1644.2276
SEQUENCE:3
DTSTAMP:20260422T144842Z
URL:https://business.chapinchamber.com/events/details/healthsource-chiropractic-progressive-wellness-2276
END:VEVENT

END:VCALENDAR
