BEGIN:VCALENDAR
VERSION:2.0
PRODID:-//ChamberMaster//Event Calendar 2.0//EN
METHOD:PUBLISH
X-PUBLISHED-TTL:P3D
REFRESH-INTERVAL:P3D
CALSCALE:GREGORIAN
BEGIN:VEVENT
DTSTART:20191102T120000Z
DTEND:20191102T160000Z
X-MICROSOFT-CDO-ALLDAYEVENT:FALSE
SUMMARY:Hill Fest Derby Day 5K & Festival
DESCRIPTION:Food\, Music and Fun!
X-ALT-DESC;FMTTYPE=text/html:Food\, Music and Fun!
LOCATION:Spring Hill High School - 11629 Broad River Road\, Chapin SC
UID:e.1644.3549
SEQUENCE:3
DTSTAMP:20260425T231052Z
URL:https://business.chapinchamber.com/events/details/hill-fest-derby-day-5k-festival-3549
END:VEVENT

END:VCALENDAR
