BEGIN:VCALENDAR
VERSION:2.0
PRODID:-//ChamberMaster//Event Calendar 2.0//EN
METHOD:PUBLISH
X-PUBLISHED-TTL:P3D
REFRESH-INTERVAL:P3D
CALSCALE:GREGORIAN
BEGIN:VEVENT
DTSTART:20181105T230000Z
DTEND:20181106T010000Z
X-MICROSOFT-CDO-ALLDAYEVENT:FALSE
SUMMARY:Holiday Market
DESCRIPTION:Timberlake Country Club & Purple Martin Grille & Cellar present their Holiday Market.  Twenty local vendors with a multitude of gift giving ideas.  Mingle\, shop & enjoy.  Special Purple Martin Menu tailored to the evening. Cash bar provided.
X-ALT-DESC;FMTTYPE=text/html:Timberlake Country Club &amp\; Purple Martin Grille &amp\; Cellar present their Holiday Market.&nbsp\; Twenty local vendors with a multitude of gift giving ideas.&nbsp\; Mingle\, shop &amp\; enjoy.&nbsp\; Special Purple Martin Menu tailored to the evening. Cash bar provided.&nbsp\;
LOCATION:Timberlake Country Club - 222 Timberlake Drive\, Chapin
UID:e.1644.2271
SEQUENCE:3
DTSTAMP:20260422T145027Z
URL:https://business.chapinchamber.com/events/details/holiday-market-2271
END:VEVENT

END:VCALENDAR
