BEGIN:VCALENDAR
VERSION:2.0
PRODID:-//ChamberMaster//Event Calendar 2.0//EN
METHOD:PUBLISH
X-PUBLISHED-TTL:P3D
REFRESH-INTERVAL:P3D
CALSCALE:GREGORIAN
BEGIN:VEVENT
DTSTART:20181110T140000Z
DTEND:20181110T200000Z
X-MICROSOFT-CDO-ALLDAYEVENT:FALSE
SUMMARY:Holiday Market & Silent Auction
DESCRIPTION:3rd Annual Holiday Market & Silent Auction - 75+ Local Crafter's\, Vendors and Food Trucks. Candles\, Accessories\, Pottery\, Jewelry\, Wood Work\, Home Decor\, Healthcare\, Bath & Spa\, Clothing\, and much more.  Hosted by CHS Marching Band
X-ALT-DESC;FMTTYPE=text/html:3rd Annual Holiday Market &amp\; Silent Auction - 75+ Local Crafter&#39\;s\, Vendors and Food Trucks. Candles\, Accessories\, Pottery\, Jewelry\, Wood Work\, Home Decor\, Healthcare\, Bath &amp\; Spa\, Clothing\, and much more.&nbsp\; Hosted by CHS Marching Band
LOCATION:Chapin High School Gymnasium - 300 Columbia Ave\, Chapin SC
UID:e.1644.2275
SEQUENCE:3
DTSTAMP:20260422T145154Z
URL:https://business.chapinchamber.com/events/details/holiday-market-silent-auction-2275
END:VEVENT

END:VCALENDAR
