BEGIN:VCALENDAR
VERSION:2.0
PRODID:-//ChamberMaster//Event Calendar 2.0//EN
METHOD:PUBLISH
X-PUBLISHED-TTL:P3D
REFRESH-INTERVAL:P3D
CALSCALE:GREGORIAN
BEGIN:VEVENT
DTSTART:20181013T130000Z
DTEND:20181013T180000Z
X-MICROSOFT-CDO-ALLDAYEVENT:FALSE
SUMMARY:Holiday Vendor Fair
DESCRIPTION:15+ Vendors ( Mary Kay\, Senegence\, Initials Inc\, 31\, Essential Oils etc...) to help you shop for your Holiday Needs
X-ALT-DESC;FMTTYPE=text/html:15+ Vendors ( Mary Kay\, Senegence\, Initials Inc\, 31\, Essential Oils etc...) to help you shop for your Holiday Needs
LOCATION:Generations Club House 49 Southwoode Circle\, Chapin SC
UID:e.1644.2256
SEQUENCE:3
DTSTAMP:20260422T182121Z
URL:https://business.chapinchamber.com/events/details/holiday-vendor-fair-2256
END:VEVENT

END:VCALENDAR
