BEGIN:VCALENDAR
VERSION:2.0
PRODID:-//ChamberMaster//Event Calendar 2.0//EN
METHOD:PUBLISH
X-PUBLISHED-TTL:P3D
REFRESH-INTERVAL:P3D
CALSCALE:GREGORIAN
BEGIN:VEVENT
DTSTART:20260207T003000Z
DTEND:20260208T023000Z
X-MICROSOFT-CDO-ALLDAYEVENT:FALSE
SUMMARY:How to Supervise Women
DESCRIPTION:The newest play by our very own Lou Clyde is a poignant and touching comedy set in 1942 when women took jobs in factories while the men were away at war. But are the male supervisors ready for them? Luckily\, they have an instruction manual - written by a man. Oops!
X-ALT-DESC;FMTTYPE=text/html:The newest play by our very own Lou Clyde is a poignant and touching comedy set in 1942 when women took jobs in factories while the men were away at war. But are the male supervisors ready for them? Luckily\, they have an instruction manual - written by a man. Oops!
LOCATION:Chapin Theatre Company 830 Columbia Ave\, Chapin\, SC 29036
UID:e.1644.6691
SEQUENCE:3
DTSTAMP:20260423T171137Z
URL:https://business.chapinchamber.com/events/details/how-to-supervise-women-6691
END:VEVENT

END:VCALENDAR
