BEGIN:VCALENDAR
VERSION:2.0
PRODID:-//ChamberMaster//Event Calendar 2.0//EN
METHOD:PUBLISH
X-PUBLISHED-TTL:P3D
REFRESH-INTERVAL:P3D
CALSCALE:GREGORIAN
BEGIN:VEVENT
DTSTART:20190413T123000Z
DTEND:20190413T183000Z
X-MICROSOFT-CDO-ALLDAYEVENT:FALSE
SUMMARY:ICRC Presents their Spring Market
DESCRIPTION:Spring Market including paintings\, artwork\, pottery\, candles\, soaps\, handcrafted jewelry\, james\, birdhouses\, home decor\, stuffed animals\, beauty products\, essential oils\, metal work\, baby/children's clothing\, kitchen items\, books\, baked goods and so much more!
X-ALT-DESC;FMTTYPE=text/html:Spring Market including paintings\, artwork\, pottery\, candles\, soaps\, handcrafted jewelry\, james\, birdhouses\, home decor\, stuffed animals\, beauty products\, essential oils\, metal work\, baby/children&#39\;s clothing\, kitchen items\, books\, baked goods and so much more!
LOCATION:Crooked Creek Park - 1098 Old Lexington Hwy\, Chapin
UID:e.1644.2416
SEQUENCE:3
DTSTAMP:20260422T054937Z
URL:https://business.chapinchamber.com/events/details/icrc-presents-their-spring-market-2416
END:VEVENT

END:VCALENDAR
