BEGIN:VCALENDAR
VERSION:2.0
PRODID:-//ChamberMaster//Event Calendar 2.0//EN
METHOD:PUBLISH
X-PUBLISHED-TTL:P3D
REFRESH-INTERVAL:P3D
CALSCALE:GREGORIAN
BEGIN:VEVENT
DTSTART:20200116T123000Z
DTEND:20200116T140000Z
X-MICROSOFT-CDO-ALLDAYEVENT:FALSE
SUMMARY:January 2020 Chamber Member Breakfast sponsored by HireRight
DESCRIPTION:Please join us for our first member meeting of the year sponsored by HireRight. They will be discussing the GIS HireRight merger and will bring you up to speed as to what they will be doing in the new year. Breakfast will be provided and registration is required. Register HERE.
X-ALT-DESC;FMTTYPE=text/html:<span style="color: rgb(91\, 91\, 91)\; font-family: &quot\;Helvetica Neue&quot\;\, Arial\, Helvetica\, sans-serif\; font-size: 13.984px\; background-color: rgb(255\, 255\, 255)\;">Please join us for our first member meeting of the year sponsored by HireRight. They will be discussing the GIS HireRight merger and will bring you up to speed as to what they will be doing in the new year. Breakfast will be provided and registration is required. Register <a href="http://events.constantcontact.com/register/event?llr=4nhemhkab&amp\;oeidk=a07egsbk2rqd8d3ca56"><strong>HERE.</strong></a></span>
LOCATION:HireRight 917 Chapin Rd Chapin SC\, 29036
UID:e.1644.3586
SEQUENCE:3
DTSTAMP:20260425T160822Z
URL:https://business.chapinchamber.com/events/details/january-2020-chamber-member-breakfast-sponsored-by-hireright-3586
END:VEVENT

END:VCALENDAR
