BEGIN:VCALENDAR
VERSION:2.0
PRODID:-//ChamberMaster//Event Calendar 2.0//EN
METHOD:PUBLISH
X-PUBLISHED-TTL:P3D
REFRESH-INTERVAL:P3D
CALSCALE:GREGORIAN
BEGIN:VEVENT
DTSTART:20190117T123000Z
DTEND:20190117T140000Z
X-MICROSOFT-CDO-ALLDAYEVENT:FALSE
SUMMARY:January Breakfast Meeting
DESCRIPTION:Please join us for our first Chamber meeting of 2019!  This breakfast gathering will be sponsored by the Greater Chapin Community Endowment
X-ALT-DESC;FMTTYPE=text/html:Please join us for our first Chamber meeting of 2019!&nbsp\; This breakfast gathering will be sponsored by the Greater Chapin Community Endowment&nbsp\;
LOCATION:Our Lady of the Lake Catholic Church - 195 Amicks Ferry Road\, Chapin
UID:e.1644.2293
SEQUENCE:3
DTSTAMP:20260422T105131Z
URL:https://business.chapinchamber.com/events/details/january-breakfast-meeting-2293
END:VEVENT

END:VCALENDAR
