BEGIN:VCALENDAR
VERSION:2.0
PRODID:-//ChamberMaster//Event Calendar 2.0//EN
METHOD:PUBLISH
X-PUBLISHED-TTL:P3D
REFRESH-INTERVAL:P3D
CALSCALE:GREGORIAN
BEGIN:VEVENT
DTSTART:20210617T160000Z
DTEND:20210617T170000Z
X-MICROSOFT-CDO-ALLDAYEVENT:FALSE
SUMMARY:June Member Luncheon
DESCRIPTION:Join us at The Cotton Press in Little Mountain for our June Member Luncheon.  You'll hear from Bill White and Nancy Williamson as they present our NEWLY REDESIGNED website and all the functions you can use as a member to promote your business.  \n\n\n\nLunch will be catered by Sheila Veach with Small Packages\, LLC.
X-ALT-DESC;FMTTYPE=text/html:Join us at The Cotton Press in Little Mountain for our June Member Luncheon.&nbsp\; You&#39\;ll hear from Bill White and Nancy Williamson as they present our NEWLY REDESIGNED website and all the functions you can use as a member to promote your business.&nbsp\;&nbsp\;<br />\n<br />\nLunch will be catered by Sheila Veach with Small Packages\, LLC.&nbsp\;&nbsp\;
LOCATION:The Cotton Press in Little Mountain
UID:e.1644.3657
SEQUENCE:3
DTSTAMP:20260424T113420Z
URL:https://business.chapinchamber.com/events/details/june-member-luncheon-3657
END:VEVENT

END:VCALENDAR
