BEGIN:VCALENDAR
VERSION:2.0
PRODID:-//ChamberMaster//Event Calendar 2.0//EN
METHOD:PUBLISH
X-PUBLISHED-TTL:P3D
REFRESH-INTERVAL:P3D
CALSCALE:GREGORIAN
BEGIN:VEVENT
DTSTART:20190129T223000Z
DTEND:20190129T233000Z
X-MICROSOFT-CDO-ALLDAYEVENT:FALSE
SUMMARY:Kane Family Pet Grooming Grand Opening and Ribbon Cutting
DESCRIPTION:Leila Kane has been a pet groomer for more than 30 years. She attended and graduated from the International Grooming School in Anaheim California to become an accredited pet groomer. Her love for animals is lifelong and unending. Please join us as we celebrate Leila and her practice to our community. The ribbon cutting ceremony will be held at 6:00 p.m.
X-ALT-DESC;FMTTYPE=text/html:<span style="color: rgb(68\, 68\, 68)\; font-family: OpenSansRegular\; font-size: 14px\; background-color: rgb(255\, 255\, 255)\;">Leila Kane has been a pet groomer for more than 30 years. She attended and graduated from the International Grooming School in Anaheim California to become an accredited pet groomer. Her love for animals is lifelong and unending. Please join us as we celebrate Leila and her practice to our community. The ribbon cutting ceremony will be held at 6:00 p.m.</span>
LOCATION:105 Snapdragon Court\, Suite F\, Chapin SC
UID:e.1644.2298
SEQUENCE:3
DTSTAMP:20260422T110147Z
URL:https://business.chapinchamber.com/events/details/kane-family-pet-grooming-grand-opening-and-ribbon-cutting-2298
END:VEVENT

END:VCALENDAR
