BEGIN:VCALENDAR
VERSION:2.0
PRODID:-//ChamberMaster//Event Calendar 2.0//EN
METHOD:PUBLISH
X-PUBLISHED-TTL:P3D
REFRESH-INTERVAL:P3D
CALSCALE:GREGORIAN
BEGIN:VEVENT
DTSTART:20191214T200000Z
DTEND:20191215T010000Z
X-MICROSOFT-CDO-ALLDAYEVENT:FALSE
SUMMARY:Lake Murray Golf Center - Santa is coming to the Arcade
DESCRIPTION:Santa is coming to the Arcade. Come and enjoy photos with Santa\, festive music\, hot chocolate\, fun\, and games.
X-ALT-DESC;FMTTYPE=text/html:Santa is coming to the Arcade. Come and enjoy photos with Santa\, festive music\, hot chocolate\, fun\, and games.&nbsp\;&nbsp\;
LOCATION:Lake Murray Golf Center - 2032 Old Hilton Road\, Chapin
UID:e.1644.3583
SEQUENCE:3
DTSTAMP:20260425T193118Z
URL:https://business.chapinchamber.com/events/details/lake-murray-golf-center-santa-is-coming-to-the-arcade-3583
END:VEVENT

END:VCALENDAR
