BEGIN:VCALENDAR
VERSION:2.0
PRODID:-//ChamberMaster//Event Calendar 2.0//EN
METHOD:PUBLISH
X-PUBLISHED-TTL:P3D
REFRESH-INTERVAL:P3D
CALSCALE:GREGORIAN
BEGIN:VEVENT
DTSTART:20180929T140000Z
DTEND:20180929T170000Z
X-MICROSOFT-CDO-ALLDAYEVENT:FALSE
SUMMARY:Lake Town Animal Hospital Open House
DESCRIPTION:Join Lake Town Animal Hospital for a tail-wagging good time at their tailgate themed open house!  They'll have food\, games\, K-Laser demonstrations\, a raffle\, clinic tours and more!  Their raffle will support SD4V and all the work they do to support our veterans.  Don't miss this day of family fun!
X-ALT-DESC;FMTTYPE=text/html:Join Lake Town Animal Hospital for a tail-wagging good time at their tailgate themed open house!&nbsp\; They&#39\;ll have food\, games\, K-Laser demonstrations\, a raffle\, clinic tours and more!&nbsp\; Their raffle will support SD4V and all the work they do to support our veterans.&nbsp\; Don&#39\;t miss this day of family fun!&nbsp\;
LOCATION:119 Amicks Ferry Road\, Chapin
UID:e.1644.2237
SEQUENCE:3
DTSTAMP:20260422T202120Z
URL:https://business.chapinchamber.com/events/details/lake-town-animal-hospital-open-house-2237
END:VEVENT

END:VCALENDAR
