BEGIN:VCALENDAR
VERSION:2.0
PRODID:-//ChamberMaster//Event Calendar 2.0//EN
METHOD:PUBLISH
X-PUBLISHED-TTL:P3D
REFRESH-INTERVAL:P3D
CALSCALE:GREGORIAN
BEGIN:VEVENT
DTSTART:20221003T203000Z
DTEND:20221003T220000Z
X-MICROSOFT-CDO-ALLDAYEVENT:FALSE
SUMMARY:Law Office of Laura Huggins Ribbon Cutting
DESCRIPTION:Ribbon Cutting for The expansion of The Law Office of Laura H. Huggins\, LLC
X-ALT-DESC;FMTTYPE=text/html:Ribbon Cutting for The expansion of The Law Office of Laura H. Huggins\, LLC
LOCATION:219 Columbia Ave Chapin SC 29036
UID:e.1644.4358
SEQUENCE:3
DTSTAMP:20260419T123127Z
URL:https://business.chapinchamber.com/events/details/law-office-of-laura-huggins-ribbon-cutting-4358
END:VEVENT

END:VCALENDAR
