BEGIN:VCALENDAR
VERSION:2.0
PRODID:-//ChamberMaster//Event Calendar 2.0//EN
METHOD:PUBLISH
X-PUBLISHED-TTL:P3D
REFRESH-INTERVAL:P3D
CALSCALE:GREGORIAN
BEGIN:VEVENT
DTSTART:20180927T203000Z
DTEND:20180928T000000Z
X-MICROSOFT-CDO-ALLDAYEVENT:FALSE
SUMMARY:LIFEBRIDGE COMEDY NIGHT
DESCRIPTION:Schedule of Events\n\n4:30-5:30 Food and Fellowship at Lifebridge\n\n5:30 Lip Sync Battle\n\n6:15 Intermission and Battle Voting\n\n6:45 Comedian John Branyan\n\n8:00 End of Events - Enjoy your evening
X-ALT-DESC;FMTTYPE=text/html:Schedule of Events<br />\n4:30-5:30 Food and Fellowship at Lifebridge<br />\n5:30 Lip Sync Battle<br />\n6:15 Intermission and Battle Voting<br />\n6:45 Comedian John Branyan<br />\n8:00 End of Events - Enjoy your evening
LOCATION:The Ritz Theatre - 1511 Main Street - Newberry\, SC
UID:e.1644.2230
SEQUENCE:3
DTSTAMP:20260422T182721Z
URL:https://business.chapinchamber.com/events/details/lifebridge-comedy-night-2230
END:VEVENT

END:VCALENDAR
