BEGIN:VCALENDAR
VERSION:2.0
PRODID:-//ChamberMaster//Event Calendar 2.0//EN
METHOD:PUBLISH
X-PUBLISHED-TTL:P3D
REFRESH-INTERVAL:P3D
CALSCALE:GREGORIAN
BEGIN:VEVENT
DTSTART;VALUE=DATE:20180803
DTEND;VALUE=DATE:20180805
TRANSP:TRANSPARENT
X-MICROSOFT-CDO-ALLDAYEVENT:TRUE
SUMMARY:Little Mountain Reunion
DESCRIPTION:Little Mountain Reunion Parade - everyone loves a Parade! Celebrating our Home Grown Heroes! Come support our Grand Marshals - Little Mountain Fire and Rescue. Applications available in box by Town Hall door or online @ littlemountainreunion.info\n\nStay for the show at 7:00 p.m. to see Jim Qucik and Coastline play\, it's always a great show!
X-ALT-DESC;FMTTYPE=text/html:Little Mountain Reunion Parade - everyone loves a Parade! Celebrating our Home Grown Heroes! Come support our Grand Marshals - Little Mountain Fire and Rescue. Applications available in box by Town Hall door or online @ littlemountainreunion.info<br />\nStay for the show at 7:00 p.m. to see Jim Qucik and Coastline play\, it&#39\;s always a great show!&nbsp\;&nbsp\;
LOCATION:Little Mountain Parade - Downtown\, Main Street Little Mountain Reunion Park - Jim Quick and Coastline Band
UID:e.1644.2203
SEQUENCE:3
DTSTAMP:20260422T220324Z
URL:https://business.chapinchamber.com/events/details/little-mountain-reunion-2203
END:VEVENT

END:VCALENDAR
