BEGIN:VCALENDAR
VERSION:2.0
PRODID:-//ChamberMaster//Event Calendar 2.0//EN
METHOD:PUBLISH
X-PUBLISHED-TTL:P3D
REFRESH-INTERVAL:P3D
CALSCALE:GREGORIAN
BEGIN:VEVENT
DTSTART:20191102T140000Z
DTEND:20191102T180000Z
X-MICROSOFT-CDO-ALLDAYEVENT:FALSE
SUMMARY:LMEC 5th Annual Family Festival & Bazaar
DESCRIPTION:They'll have music\, food\, a bounce house\, vendors\, a silent auction\, horse rides\, bake sale\, and games!
X-ALT-DESC;FMTTYPE=text/html:They&#39\;ll have music\, food\, a bounce house\, vendors\, a silent auction\, horse rides\, bake sale\, and games!
LOCATION:Lake Murray Evangelical Church - 501 Murray Lindler Road\, Chapin
UID:e.1644.3551
SEQUENCE:3
DTSTAMP:20260425T212232Z
URL:https://business.chapinchamber.com/events/details/lmec-5th-annual-family-festival-bazaar-3551
END:VEVENT

END:VCALENDAR
