BEGIN:VCALENDAR
VERSION:2.0
PRODID:-//ChamberMaster//Event Calendar 2.0//EN
METHOD:PUBLISH
X-PUBLISHED-TTL:P3D
REFRESH-INTERVAL:P3D
CALSCALE:GREGORIAN
BEGIN:VEVENT
DTSTART:20190321T160000Z
DTEND:20190321T173000Z
X-MICROSOFT-CDO-ALLDAYEVENT:FALSE
SUMMARY:March Member Luncheon
DESCRIPTION:Please join us for our March \n\nMonthly Member Luncheon! \n\n\nA presentation on Why to Choose a Continuum and a wonderful lunch \n\nincluding a berry salad\, chicken\, and \n\nbaked potato bar will be provided. \n\nRegistration is required.  \n\nREGISTER HERE
X-ALT-DESC;FMTTYPE=text/html:<div style="color: rgb(64\, 63\, 66)\; font-family: Arial\, Verdana\, Helvetica\, sans-serif\; font-size: 12px\; white-space: pre-wrap\; background-color: rgb(255\, 255\, 255)\; text-align: center\;"><span style="font-size: 14px\; color: rgb(56\, 123\, 55)\;">Please join us for our March </span></div>\n\n<div style="color: rgb(64\, 63\, 66)\; font-family: Arial\, Verdana\, Helvetica\, sans-serif\; font-size: 12px\; white-space: pre-wrap\; background-color: rgb(255\, 255\, 255)\; text-align: center\;"><span style="font-size: 14px\; color: rgb(56\, 123\, 55)\;">Monthly Member Luncheon!&nbsp\;</span></div>\n\n<div style="font-family: Arial\, Verdana\, Helvetica\, sans-serif\; white-space: pre-wrap\; background-color: rgb(255\, 255\, 255)\; text-align: center\;">\n<div style="color: rgb(64\, 63\, 66)\; font-size: 12px\;"><span style="font-size: 14px\; color: rgb(56\, 123\, 55)\;">A presentation on </span><span style="font-size: 14px\; color: rgb(54\, 138\, 156)\;">Why to Choose a Continuum</span><span style="font-size: 14px\; color: rgb(56\, 123\, 55)\;"> and a wonderful lunch </span></div>\n\n<div style="color: rgb(64\, 63\, 66)\; font-size: 12px\;"><span style="font-size: 14px\; color: rgb(56\, 123\, 55)\;">including a berry salad\, chicken\, and </span></div>\n\n<div style="color: rgb(64\, 63\, 66)\; font-size: 12px\;"><span style="font-size: 14px\; color: rgb(56\, 123\, 55)\;">baked potato bar will be provided.&nbsp\;</span></div>\n\n<div style="color: rgb(64\, 63\, 66)\; font-size: 12px\;"><span style="font-size: 14px\; color: rgb(56\, 123\, 55)\; font-weight: bold\;">Registration is required.&nbsp\;&nbsp\;</span></div>\n\n<div style=""><a href="http://events.constantcontact.com/register/event?llr=4nhemhkab&amp\;oeidk=a07eg5smpe9ae3d99c1"><font color="#387b37"><span style="font-size: 14px\;"><b>REGISTER HERE</b></span></font></a></div>\n\n<div style="color: rgb(64\, 63\, 66)\; font-size: 12px\;">&nbsp\;</div>\n</div>\n
LOCATION:The Heritage at Lowman - Hoefler Gallery in the Wellness Center - 2101 Dutch Fork Road- Chapin
UID:e.1644.2411
SEQUENCE:3
DTSTAMP:20260422T074138Z
URL:https://business.chapinchamber.com/events/details/march-member-luncheon-2411
END:VEVENT

END:VCALENDAR
