BEGIN:VCALENDAR
VERSION:2.0
PRODID:-//ChamberMaster//Event Calendar 2.0//EN
METHOD:PUBLISH
X-PUBLISHED-TTL:P3D
REFRESH-INTERVAL:P3D
CALSCALE:GREGORIAN
BEGIN:VEVENT
DTSTART:20190424T160000Z
DTEND:20190424T170000Z
X-MICROSOFT-CDO-ALLDAYEVENT:FALSE
SUMMARY:Marco's Pizza Grand Opening/Ribbon Cutting
DESCRIPTION:Please join us as we welcome Marco's Pizza to Chapin!  Ribbon Cutting to be held at 12:20 p.m.
X-ALT-DESC;FMTTYPE=text/html:Please join us as we welcome Marco&#39\;s Pizza to Chapin!&nbsp\; Ribbon Cutting to be held at 12:20 p.m.
LOCATION:1221 Chapin Road\, Chapin SC
UID:e.1644.2431
SEQUENCE:3
DTSTAMP:20260422T055141Z
URL:https://business.chapinchamber.com/events/details/marco-s-pizza-grand-opening-ribbon-cutting-2431
END:VEVENT

END:VCALENDAR
